BEGIN:VCALENDAR
VERSION:2.0
PRODID:-//jEvents 2.0 for Joomla//EN
CALSCALE:GREGORIAN
METHOD:PUBLISH
BEGIN:VTIMEZONE
TZID:Europe/Berlin
BEGIN:STANDARD
DTSTART:20241027T020000
RDATE:20250330T030000
TZOFFSETFROM:+0200
TZOFFSETTO:+0100
TZNAME:Europe/Berlin CET
END:STANDARD
BEGIN:STANDARD
DTSTART:20251026T020000
RDATE:20260329T030000
TZOFFSETFROM:+0200
TZOFFSETTO:+0100
TZNAME:Europe/Berlin CET
END:STANDARD
BEGIN:STANDARD
DTSTART:20261025T020000
RDATE:20270328T030000
TZOFFSETFROM:+0200
TZOFFSETTO:+0100
TZNAME:Europe/Berlin CET
END:STANDARD
BEGIN:STANDARD
DTSTART:20271031T020000
RDATE:20280326T030000
TZOFFSETFROM:+0200
TZOFFSETTO:+0100
TZNAME:Europe/Berlin CET
END:STANDARD
BEGIN:STANDARD
DTSTART:20281029T020000
RDATE:20290325T030000
TZOFFSETFROM:+0200
TZOFFSETTO:+0100
TZNAME:Europe/Berlin CET
END:STANDARD
BEGIN:DAYLIGHT
DTSTART:20240817T163000
RDATE:20241027T020000
TZOFFSETFROM:+0100
TZOFFSETTO:+0200
TZNAME:Europe/Berlin CEST
END:DAYLIGHT
BEGIN:DAYLIGHT
DTSTART:20250330T030000
RDATE:20251026T020000
TZOFFSETFROM:+0100
TZOFFSETTO:+0200
TZNAME:Europe/Berlin CEST
END:DAYLIGHT
BEGIN:DAYLIGHT
DTSTART:20260329T030000
RDATE:20261025T020000
TZOFFSETFROM:+0100
TZOFFSETTO:+0200
TZNAME:Europe/Berlin CEST
END:DAYLIGHT
BEGIN:DAYLIGHT
DTSTART:20270328T030000
RDATE:20271031T020000
TZOFFSETFROM:+0100
TZOFFSETTO:+0200
TZNAME:Europe/Berlin CEST
END:DAYLIGHT
BEGIN:DAYLIGHT
DTSTART:20280326T030000
RDATE:20281029T020000
TZOFFSETFROM:+0100
TZOFFSETTO:+0200
TZNAME:Europe/Berlin CEST
END:DAYLIGHT
END:VTIMEZONE
BEGIN:VEVENT
UID:91a4e79a159d0439d66c27c54803784d
CATEGORIES:Ida-Gerhardi-Schule
CREATED:19700101T010000
SUMMARY:Yoga
LOCATION:Schubertstr. 9a\, 58509 Lüdenscheid
DESCRIPTION:https://tusjahn.de/gruppen/yoga.html (gruppen/yoga.html)\nIda-Gerhardi-Schu
 le\n
X-ALT-DESC;FMTTYPE=text/html:<p><a href="https://tusjahn.de/gruppen/yoga.html" target="_blank" rel="noop
 ener noreferrer">https://tusjahn.de/gruppen/yoga.html</a><br />Ida-Gerhardi
 -Schule</p>
DTSTAMP:20260419T185901
DTSTART;TZID=Europe/Berlin:20250818T163000
DTEND;TZID=Europe/Berlin:20250818T180000
SEQUENCE:0
RRULE:FREQ=WEEKLY;UNTIL=20251021T000000Z;INTERVAL=1;BYDAY=MO
EXDATE;TZID=Europe/Berlin:20251013T163000
TRANSP:OPAQUE
END:VEVENT
END:VCALENDAR