BEGIN:VCALENDAR
VERSION:2.0
PRODID:-//jEvents 2.0 for Joomla//EN
CALSCALE:GREGORIAN
METHOD:PUBLISH
BEGIN:VTIMEZONE
TZID:Europe/Berlin
BEGIN:STANDARD
DTSTART:20241129T100000
RDATE:20250330T030000
TZOFFSETFROM:+0200
TZOFFSETTO:+0100
TZNAME:Europe/Berlin CET
END:STANDARD
BEGIN:STANDARD
DTSTART:20251026T020000
RDATE:20260329T030000
TZOFFSETFROM:+0200
TZOFFSETTO:+0100
TZNAME:Europe/Berlin CET
END:STANDARD
BEGIN:STANDARD
DTSTART:20261025T020000
RDATE:20270328T030000
TZOFFSETFROM:+0200
TZOFFSETTO:+0100
TZNAME:Europe/Berlin CET
END:STANDARD
BEGIN:STANDARD
DTSTART:20271031T020000
RDATE:20280326T030000
TZOFFSETFROM:+0200
TZOFFSETTO:+0100
TZNAME:Europe/Berlin CET
END:STANDARD
BEGIN:STANDARD
DTSTART:20281029T020000
RDATE:20290325T030000
TZOFFSETFROM:+0200
TZOFFSETTO:+0100
TZNAME:Europe/Berlin CET
END:STANDARD
BEGIN:DAYLIGHT
DTSTART:20250330T030000
RDATE:20251026T020000
TZOFFSETFROM:+0100
TZOFFSETTO:+0200
TZNAME:Europe/Berlin CEST
END:DAYLIGHT
BEGIN:DAYLIGHT
DTSTART:20260329T030000
RDATE:20261025T020000
TZOFFSETFROM:+0100
TZOFFSETTO:+0200
TZNAME:Europe/Berlin CEST
END:DAYLIGHT
BEGIN:DAYLIGHT
DTSTART:20270328T030000
RDATE:20271031T020000
TZOFFSETFROM:+0100
TZOFFSETTO:+0200
TZNAME:Europe/Berlin CEST
END:DAYLIGHT
BEGIN:DAYLIGHT
DTSTART:20280326T030000
RDATE:20281029T020000
TZOFFSETFROM:+0100
TZOFFSETTO:+0200
TZNAME:Europe/Berlin CEST
END:DAYLIGHT
END:VTIMEZONE
BEGIN:VEVENT
UID:3goul1kjoqhf63fch8ds2rqq49@google.com
CATEGORIES:Kegeln
CREATED:20250726T104840
SUMMARY:Ligenspiel: KV Iserlohn 1 - TuS Jahn Lüdenscheid
LOCATION:Restaurant Heidebad\, 58638 Iserlohn\, Heideplatz 4
DESCRIPTION:    7. Spieltag          Rittgerodt, Ingo:  Tel.: 02304-7511912 Mobil: 0157
 8-3436282, Diese E-Mail-Adresse ist vor Spambots geschützt! Zur Anzeige mus
 s JavaScript eingeschaltet sein.  
X-ALT-DESC;FMTTYPE=text/html:<table> <colgroup><col /> </colgroup><tbody><tr>  <td>7. Spieltag</td> </tr
 ></tbody></table> <table> <colgroup><col /> </colgroup><tbody><tr>  <td><ta
 ble> <colgroup><col /> </colgroup><tbody><tr>  <td>Rittgerodt, Ingo:  Tel.:
  02304-7511912 Mobil: 01578-3436282, <joomla-hidden-mail  is-link="1" is-em
 ail="1" first="aW5nb3JpdHQ=" last="aG90bWFpbC5jb20=" text="aW5nb3JpdHRAaG90
 bWFpbC5jb20=" base="" >Diese E-Mail-Adresse ist vor Spambots geschützt! Zur
  Anzeige muss JavaScript eingeschaltet sein.</joomla-hidden-mail></td> </tr
 ></tbody></table></td> </tr></tbody></table>
DTSTAMP:20260420T150245
DTSTART;TZID=Europe/Berlin:20251130T100000
DTEND;TZID=Europe/Berlin:20251130T140000
SEQUENCE:0
TRANSP:OPAQUE
END:VEVENT
END:VCALENDAR