BEGIN:VCALENDAR
VERSION:2.0
PRODID:-//jEvents 2.0 for Joomla//EN
CALSCALE:GREGORIAN
METHOD:PUBLISH
BEGIN:VTIMEZONE
TZID:Europe/Berlin
BEGIN:STANDARD
DTSTART:20241213T120000
RDATE:20250330T030000
TZOFFSETFROM:+0200
TZOFFSETTO:+0100
TZNAME:Europe/Berlin CET
END:STANDARD
BEGIN:STANDARD
DTSTART:20251026T020000
RDATE:20260329T030000
TZOFFSETFROM:+0200
TZOFFSETTO:+0100
TZNAME:Europe/Berlin CET
END:STANDARD
BEGIN:STANDARD
DTSTART:20261025T020000
RDATE:20270328T030000
TZOFFSETFROM:+0200
TZOFFSETTO:+0100
TZNAME:Europe/Berlin CET
END:STANDARD
BEGIN:STANDARD
DTSTART:20271031T020000
RDATE:20280326T030000
TZOFFSETFROM:+0200
TZOFFSETTO:+0100
TZNAME:Europe/Berlin CET
END:STANDARD
BEGIN:STANDARD
DTSTART:20281029T020000
RDATE:20290325T030000
TZOFFSETFROM:+0200
TZOFFSETTO:+0100
TZNAME:Europe/Berlin CET
END:STANDARD
BEGIN:DAYLIGHT
DTSTART:20250330T030000
RDATE:20251026T020000
TZOFFSETFROM:+0100
TZOFFSETTO:+0200
TZNAME:Europe/Berlin CEST
END:DAYLIGHT
BEGIN:DAYLIGHT
DTSTART:20260329T030000
RDATE:20261025T020000
TZOFFSETFROM:+0100
TZOFFSETTO:+0200
TZNAME:Europe/Berlin CEST
END:DAYLIGHT
BEGIN:DAYLIGHT
DTSTART:20270328T030000
RDATE:20271031T020000
TZOFFSETFROM:+0100
TZOFFSETTO:+0200
TZNAME:Europe/Berlin CEST
END:DAYLIGHT
BEGIN:DAYLIGHT
DTSTART:20280326T030000
RDATE:20281029T020000
TZOFFSETFROM:+0100
TZOFFSETTO:+0200
TZNAME:Europe/Berlin CEST
END:DAYLIGHT
END:VTIMEZONE
BEGIN:VEVENT
UID:7fpp4q58dq4bqd1sghaipfjudp@google.com
CATEGORIES:Kegeln
CREATED:20250726T104840
SUMMARY:Ligenspiel: SKV Erkenschwick 2 - TuS Jahn Lüdenscheid
LOCATION:Keglerheim SKV Erkenschwick\, Am Stimbergpark 80\, 45739 Oer-Erkenschwick
DESCRIPTION:<table> <colgroup><col /> </colgroup><tbody><tr>  <td>2. Spieltag getauscht
  mit 7. Spieltag<br></td> </tr></tbody></table> <table> <colgroup><col /> <
 /colgroup><tbody><tr>  <td>Schmidt,  Thomas: Mobil: 0176-57747004, <joomla-
 hidden-mail  is-link="1" is-email="1" first="dC5zY2htaWR0MDY1" last="Z21haW
 wuY29t" text="dC5zY2htaWR0MDY1QGdtYWlsLmNvbQ==" base=""  target="_blank">Di
 ese E-Mail-Adresse ist vor Spambots geschützt! Zur Anzeige muss JavaScript 
 eingeschaltet sein.</joomla-hidden-mail></td> </tr></tbody></table>
DTSTAMP:20260421T110640
DTSTART;TZID=Europe/Berlin:20251214T120000
DTEND;TZID=Europe/Berlin:20251214T140000
SEQUENCE:2
TRANSP:OPAQUE
END:VEVENT
END:VCALENDAR