BEGIN:VCALENDAR
VERSION:2.0
PRODID:-//jEvents 2.0 for Joomla//EN
CALSCALE:GREGORIAN
METHOD:PUBLISH
BEGIN:VTIMEZONE
TZID:Europe/Berlin
BEGIN:STANDARD
DTSTART:20241114T101200
RDATE:20250330T030000
TZOFFSETFROM:+0200
TZOFFSETTO:+0100
TZNAME:Europe/Berlin CET
END:STANDARD
BEGIN:STANDARD
DTSTART:20251026T020000
RDATE:20260329T030000
TZOFFSETFROM:+0200
TZOFFSETTO:+0100
TZNAME:Europe/Berlin CET
END:STANDARD
BEGIN:STANDARD
DTSTART:20261025T020000
RDATE:20270328T030000
TZOFFSETFROM:+0200
TZOFFSETTO:+0100
TZNAME:Europe/Berlin CET
END:STANDARD
BEGIN:STANDARD
DTSTART:20271031T020000
RDATE:20280326T030000
TZOFFSETFROM:+0200
TZOFFSETTO:+0100
TZNAME:Europe/Berlin CET
END:STANDARD
BEGIN:STANDARD
DTSTART:20281029T020000
RDATE:20290325T030000
TZOFFSETFROM:+0200
TZOFFSETTO:+0100
TZNAME:Europe/Berlin CET
END:STANDARD
BEGIN:DAYLIGHT
DTSTART:20250330T030000
RDATE:20251026T020000
TZOFFSETFROM:+0100
TZOFFSETTO:+0200
TZNAME:Europe/Berlin CEST
END:DAYLIGHT
BEGIN:DAYLIGHT
DTSTART:20260329T030000
RDATE:20261025T020000
TZOFFSETFROM:+0100
TZOFFSETTO:+0200
TZNAME:Europe/Berlin CEST
END:DAYLIGHT
BEGIN:DAYLIGHT
DTSTART:20270328T030000
RDATE:20271031T020000
TZOFFSETFROM:+0100
TZOFFSETTO:+0200
TZNAME:Europe/Berlin CEST
END:DAYLIGHT
BEGIN:DAYLIGHT
DTSTART:20280326T030000
RDATE:20281029T020000
TZOFFSETFROM:+0100
TZOFFSETTO:+0200
TZNAME:Europe/Berlin CEST
END:DAYLIGHT
END:VTIMEZONE
BEGIN:VEVENT
UID:7be0f57dfe8b7958ae69d994cf84b778
CATEGORIES:Wandern
CREATED:20250609T101459
SUMMARY:5 km Wanderung ab Herscheid-Denkmal nach Herscheid-Grünenthal
LOCATION:Einkehr: Landgasthof "Zur Klemme" (Inh. Peter Schürmann)
DESCRIPTION:<div class="wanderplan-item wanderplan-title">Sa 15.11.2025, 10:12 - ZOB Sa
 uerfeld, Linie 54 nach Herscheid-Denkmal</div><div class="wanderplan-item">
 Um 10:30 Uhr 5 km Wanderung ab Herscheid-Denkmal nach Herscheid-Grünenthal 
 zum Landgasthof "Zur Klemme" (Inh. Peter Schürmann)<br />Es gibt: Pfefferpo
 tthast, anschließend Frankfurter Kranz<br />Einkehr: 12:15 Uhr<br />Rückfah
 rt: 15:11 Uhr ab Fa. Alberts (Grünenthal)</div>
CONTACT:Anmeldung: Renate Boer, Telefon: 02351 61428 / 0172 2363736
DTSTAMP:20260422T200041
DTSTART;TZID=Europe/Berlin:20251115T101200
SEQUENCE:0
TRANSP:OPAQUE
END:VEVENT
END:VCALENDAR