BEGIN:VCALENDAR
VERSION:2.0
PRODID:-//jEvents 2.0 for Joomla//EN
CALSCALE:GREGORIAN
METHOD:PUBLISH
BEGIN:VTIMEZONE
TZID:Europe/Berlin
BEGIN:STANDARD
DTSTART:20241031T093000
RDATE:20250330T030000
TZOFFSETFROM:+0200
TZOFFSETTO:+0100
TZNAME:Europe/Berlin CET
END:STANDARD
BEGIN:STANDARD
DTSTART:20251026T020000
RDATE:20260329T030000
TZOFFSETFROM:+0200
TZOFFSETTO:+0100
TZNAME:Europe/Berlin CET
END:STANDARD
BEGIN:STANDARD
DTSTART:20261025T020000
RDATE:20270328T030000
TZOFFSETFROM:+0200
TZOFFSETTO:+0100
TZNAME:Europe/Berlin CET
END:STANDARD
BEGIN:STANDARD
DTSTART:20271031T020000
RDATE:20280326T030000
TZOFFSETFROM:+0200
TZOFFSETTO:+0100
TZNAME:Europe/Berlin CET
END:STANDARD
BEGIN:STANDARD
DTSTART:20281029T020000
RDATE:20290325T030000
TZOFFSETFROM:+0200
TZOFFSETTO:+0100
TZNAME:Europe/Berlin CET
END:STANDARD
BEGIN:DAYLIGHT
DTSTART:20250330T030000
RDATE:20251026T020000
TZOFFSETFROM:+0100
TZOFFSETTO:+0200
TZNAME:Europe/Berlin CEST
END:DAYLIGHT
BEGIN:DAYLIGHT
DTSTART:20260329T030000
RDATE:20261025T020000
TZOFFSETFROM:+0100
TZOFFSETTO:+0200
TZNAME:Europe/Berlin CEST
END:DAYLIGHT
BEGIN:DAYLIGHT
DTSTART:20270328T030000
RDATE:20271031T020000
TZOFFSETFROM:+0100
TZOFFSETTO:+0200
TZNAME:Europe/Berlin CEST
END:DAYLIGHT
BEGIN:DAYLIGHT
DTSTART:20280326T030000
RDATE:20281029T020000
TZOFFSETFROM:+0100
TZOFFSETTO:+0200
TZNAME:Europe/Berlin CEST
END:DAYLIGHT
END:VTIMEZONE
BEGIN:VEVENT
UID:8c413504c7374440c1435d6842fdd818
CATEGORIES:Wandern
CREATED:20250609T101056
SUMMARY:14 km Listertalsperre
LOCATION:Einkehr: Restaurant Gut Kalberschnacke\, Kalberschnacke 4\, 57489 Drolshage
 n
DESCRIPTION:Sa 01.11.2025 (Allerheiligen), 09:30 - Treffpunkt Festplatz Hohe SteinertSt
 art: Listerhalle Hunswinkel, Listerstraße, 58540 Meinerzhagen
X-ALT-DESC;FMTTYPE=text/html:<div class="wanderplan-item wanderplan-title">Sa 01.11.2025 (Allerheiligen)
 , 09:30 - Treffpunkt Festplatz Hohe Steinert</div><div class="wanderplan-it
 em wanderplan-guide">Start: Listerhalle Hunswinkel, Listerstraße, 58540 Mei
 nerzhagen</div>
CONTACT:Führung: Ernst Haase, Telefon: 0178 9681613
DTSTAMP:20260422T195643
DTSTART;TZID=Europe/Berlin:20251101T093000
SEQUENCE:0
TRANSP:OPAQUE
END:VEVENT
END:VCALENDAR