BEGIN:VCALENDAR
VERSION:2.0
PRODID:-//jEvents 2.0 for Joomla//EN
CALSCALE:GREGORIAN
METHOD:PUBLISH
BEGIN:VTIMEZONE
TZID:Europe/Berlin
BEGIN:STANDARD
DTSTART:20241027T020000
RDATE:20250330T030000
TZOFFSETFROM:+0200
TZOFFSETTO:+0100
TZNAME:Europe/Berlin CET
END:STANDARD
BEGIN:STANDARD
DTSTART:20251026T020000
RDATE:20260329T030000
TZOFFSETFROM:+0200
TZOFFSETTO:+0100
TZNAME:Europe/Berlin CET
END:STANDARD
BEGIN:STANDARD
DTSTART:20261025T020000
RDATE:20270328T030000
TZOFFSETFROM:+0200
TZOFFSETTO:+0100
TZNAME:Europe/Berlin CET
END:STANDARD
BEGIN:STANDARD
DTSTART:20271031T020000
RDATE:20280326T030000
TZOFFSETFROM:+0200
TZOFFSETTO:+0100
TZNAME:Europe/Berlin CET
END:STANDARD
BEGIN:STANDARD
DTSTART:20281029T020000
RDATE:20290325T030000
TZOFFSETFROM:+0200
TZOFFSETTO:+0100
TZNAME:Europe/Berlin CET
END:STANDARD
BEGIN:DAYLIGHT
DTSTART:20240718T090000
RDATE:20241027T020000
TZOFFSETFROM:+0100
TZOFFSETTO:+0200
TZNAME:Europe/Berlin CEST
END:DAYLIGHT
BEGIN:DAYLIGHT
DTSTART:20250330T030000
RDATE:20251026T020000
TZOFFSETFROM:+0100
TZOFFSETTO:+0200
TZNAME:Europe/Berlin CEST
END:DAYLIGHT
BEGIN:DAYLIGHT
DTSTART:20260329T030000
RDATE:20261025T020000
TZOFFSETFROM:+0100
TZOFFSETTO:+0200
TZNAME:Europe/Berlin CEST
END:DAYLIGHT
BEGIN:DAYLIGHT
DTSTART:20270328T030000
RDATE:20271031T020000
TZOFFSETFROM:+0100
TZOFFSETTO:+0200
TZNAME:Europe/Berlin CEST
END:DAYLIGHT
BEGIN:DAYLIGHT
DTSTART:20280326T030000
RDATE:20281029T020000
TZOFFSETFROM:+0100
TZOFFSETTO:+0200
TZNAME:Europe/Berlin CEST
END:DAYLIGHT
END:VTIMEZONE
BEGIN:VEVENT
UID:5e1aac64c1bccbedafa9ea29a31a1978
CATEGORIES:Wandern
CREATED:20250608T143724
SUMMARY:8 - 10 km Wanderung im Essener Süden
DESCRIPTION:Treffpunkt Festplatz Hohe Steinert8 - 10 km Wanderung im Essener Süden, in 
 die Bereiche Stadtwald, Baldeney See, Stadtteil Werden (St. Ludgerus, Folkw
 ang-Schule), Kluse, Kruppwald mit Villa Hügel von außen.Wanderführer: Raine
 r Biniok, Essen
X-ALT-DESC;FMTTYPE=text/html:<div class="wanderplan-item"><strong>Treffpunkt Festplatz Hohe Steinert</st
 rong></div><div class="wanderplan-item">8 - 10 km Wanderung im Essener Süde
 n, in die Bereiche Stadtwald, Baldeney See, Stadtteil Werden (St. Ludgerus,
  Folkwang-Schule), Kluse, Kruppwald mit Villa Hügel von außen.</div><div cl
 ass="wanderplan-item">Wanderführer: Rainer Biniok, Essen</div>
CONTACT:Anmeldung: Renate Boer, Telefon: 02351 61428 / 0172 236 3736
DTSTAMP:20260422T172930
DTSTART;TZID=Europe/Berlin:20250719T090000
SEQUENCE:0
TRANSP:OPAQUE
END:VEVENT
END:VCALENDAR