BEGIN:VCALENDAR
VERSION:2.0
PRODID:-//jEvents 2.0 for Joomla//EN
CALSCALE:GREGORIAN
METHOD:PUBLISH
BEGIN:VTIMEZONE
TZID:Europe/Berlin
BEGIN:STANDARD
DTSTART:20241027T020000
RDATE:20250330T030000
TZOFFSETFROM:+0200
TZOFFSETTO:+0100
TZNAME:Europe/Berlin CET
END:STANDARD
BEGIN:STANDARD
DTSTART:20251026T020000
RDATE:20260329T030000
TZOFFSETFROM:+0200
TZOFFSETTO:+0100
TZNAME:Europe/Berlin CET
END:STANDARD
BEGIN:STANDARD
DTSTART:20261025T020000
RDATE:20270328T030000
TZOFFSETFROM:+0200
TZOFFSETTO:+0100
TZNAME:Europe/Berlin CET
END:STANDARD
BEGIN:STANDARD
DTSTART:20271031T020000
RDATE:20280326T030000
TZOFFSETFROM:+0200
TZOFFSETTO:+0100
TZNAME:Europe/Berlin CET
END:STANDARD
BEGIN:STANDARD
DTSTART:20281029T020000
RDATE:20290325T030000
TZOFFSETFROM:+0200
TZOFFSETTO:+0100
TZNAME:Europe/Berlin CET
END:STANDARD
BEGIN:DAYLIGHT
DTSTART:20240606T093000
RDATE:20241027T020000
TZOFFSETFROM:+0100
TZOFFSETTO:+0200
TZNAME:Europe/Berlin CEST
END:DAYLIGHT
BEGIN:DAYLIGHT
DTSTART:20250330T030000
RDATE:20251026T020000
TZOFFSETFROM:+0100
TZOFFSETTO:+0200
TZNAME:Europe/Berlin CEST
END:DAYLIGHT
BEGIN:DAYLIGHT
DTSTART:20260329T030000
RDATE:20261025T020000
TZOFFSETFROM:+0100
TZOFFSETTO:+0200
TZNAME:Europe/Berlin CEST
END:DAYLIGHT
BEGIN:DAYLIGHT
DTSTART:20270328T030000
RDATE:20271031T020000
TZOFFSETFROM:+0100
TZOFFSETTO:+0200
TZNAME:Europe/Berlin CEST
END:DAYLIGHT
BEGIN:DAYLIGHT
DTSTART:20280326T030000
RDATE:20281029T020000
TZOFFSETFROM:+0100
TZOFFSETTO:+0200
TZNAME:Europe/Berlin CEST
END:DAYLIGHT
END:VTIMEZONE
BEGIN:VEVENT
UID:688ce7ff232958a2ee18f6aadeaaa71a
CATEGORIES:Wandern
CREATED:20250113T151932
SUMMARY:11 km Rundweg im Oberbergischen
LOCATION:Start / Ziel: Kirchplatz\, 51647 Gummersbach-Lieberhausen
DESCRIPTION:Treffpunkt Festplatz Hohe Steinert11 km Rundweg im Oberbergischen (Homert 5
 25 m - Käthe-Strobel-Haus) 
X-ALT-DESC;FMTTYPE=text/html:<div class="wanderplan-item wanderplan-title">Treffpunkt Festplatz Hohe Ste
 inert</div><div class="wanderplan-item">11 km Rundweg im Oberbergischen (Ho
 mert 525 m - Käthe-Strobel-Haus)</div><div class="wanderplan-item wanderpla
 n-guide"> </div>
CONTACT:Führung: Peter Ludwig, Telefon: 02354 1 20 17 / 0171 9 29 60 64
DTSTAMP:20260422T180932
DTSTART;TZID=Europe/Berlin:20250607T093000
SEQUENCE:0
TRANSP:OPAQUE
END:VEVENT
END:VCALENDAR